BEGIN:VCALENDAR
PRODID:NingEventWidget-v1
VERSION:2.0
METHOD:PUBLISH
BEGIN:VTIMEZONE
TZID:America/Mexico_City
X-LIC-LOCATION:America/Mexico_City
BEGIN:DAYLIGHT
TZOFFSETFROM:-0600
TZOFFSETTO:-0500
TZNAME:CDT
DTSTART:19700405T020000
RRULE:FREQ=YEARLY;BYMONTH=4;BYDAY=1SU
END:DAYLIGHT
BEGIN:STANDARD
TZOFFSETFROM:-0500
TZOFFSETTO:-0600
TZNAME:CST
DTSTART:19701025T020000
RRULE:FREQ=YEARLY;BYMONTH=10;BYDAY=-1SU
END:STANDARD
END:VTIMEZONE
BEGIN:VEVENT
UID:4395061:Event:22932
DTSTAMP:20260420T095958Z
SUMMARY:Poker Tournament Fundraiser This Saturday
DESCRIPTION:This Saturday: Fundraiser Texas Hold'em Tournament, benefi
 tting youth Softball: Saturday March 22nd 2014, 1:00pm at Sharks Rest
 aurant & Billiards 10320 Shawnee Mission Parkway, Shawnee, KS. $25 En
 try DonationContact @Frederick Hill 913-744-9003 for further info. Spo
 nsored by Predators Youth Baseball team, facilitated bywww.PrestigePok
 erLeague.com\n\n\nPOSTS\n\n\n\n\nFor more information visit https://pr
 estigepoker.ning.com/events/poker-tournament-fundraiser-this-saturday
DTSTART;TZID=America/Mexico_City:20140322T130000
DTEND;TZID=America/Mexico_City:20140322T180000
CATEGORIES:fundraiser
LOCATION:sharks billiards and restaurant
WEBSITE:
URL:
CONTACT:
ORGANIZER;CN="Prestige Poker League":https://prestigepoker.ning.com/pr
 ofile/PrestigePoker
ATTACH;FMTTYPE="image/jpeg":http://storage.ning.com/topology/rest/1.0/
 file/get/1680848387?profile=original
ATTENDEE;ROLE=REQ-PARTICIPANT;PARTSTAT=ACCEPTED;RSVP=TRUE;CN="Prestige
  Poker League":https://prestigepoker.ning.com/profile/PrestigePoker
END:VEVENT
END:VCALENDAR
